
BEGIN:VCALENDAR
VERSION:2.0
PRODID:-//Cold Blooded Expos - ECPv6.15.20//NONSGML v1.0//EN
CALSCALE:GREGORIAN
METHOD:PUBLISH
X-ORIGINAL-URL:https://coldbloodedexpos.com
X-WR-CALDESC:Events for Cold Blooded Expos
REFRESH-INTERVAL;VALUE=DURATION:PT1H
X-Robots-Tag:noindex
X-PUBLISHED-TTL:PT1H
BEGIN:VTIMEZONE
TZID:America/Chicago
BEGIN:DAYLIGHT
TZOFFSETFROM:-0600
TZOFFSETTO:-0500
TZNAME:CDT
DTSTART:20230312T080000
END:DAYLIGHT
BEGIN:STANDARD
TZOFFSETFROM:-0500
TZOFFSETTO:-0600
TZNAME:CST
DTSTART:20231105T070000
END:STANDARD
BEGIN:DAYLIGHT
TZOFFSETFROM:-0600
TZOFFSETTO:-0500
TZNAME:CDT
DTSTART:20240310T080000
END:DAYLIGHT
BEGIN:STANDARD
TZOFFSETFROM:-0500
TZOFFSETTO:-0600
TZNAME:CST
DTSTART:20241103T070000
END:STANDARD
BEGIN:DAYLIGHT
TZOFFSETFROM:-0600
TZOFFSETTO:-0500
TZNAME:CDT
DTSTART:20250309T080000
END:DAYLIGHT
BEGIN:STANDARD
TZOFFSETFROM:-0500
TZOFFSETTO:-0600
TZNAME:CST
DTSTART:20251102T070000
END:STANDARD
BEGIN:DAYLIGHT
TZOFFSETFROM:-0600
TZOFFSETTO:-0500
TZNAME:CDT
DTSTART:20260308T080000
END:DAYLIGHT
BEGIN:STANDARD
TZOFFSETFROM:-0500
TZOFFSETTO:-0600
TZNAME:CST
DTSTART:20261101T070000
END:STANDARD
BEGIN:DAYLIGHT
TZOFFSETFROM:-0600
TZOFFSETTO:-0500
TZNAME:CDT
DTSTART:20270314T080000
END:DAYLIGHT
BEGIN:STANDARD
TZOFFSETFROM:-0500
TZOFFSETTO:-0600
TZNAME:CST
DTSTART:20271107T070000
END:STANDARD
END:VTIMEZONE
BEGIN:VEVENT
DTSTART;TZID=America/Chicago:20240324T100000
DTEND;TZID=America/Chicago:20240324T160000
DTSTAMP:20260422T171401
CREATED:20231117T020824Z
LAST-MODIFIED:20240312T180746Z
UID:60576-1711274400-1711296000@coldbloodedexpos.com
SUMMARY:Nebraska Reptile Show
DESCRIPTION:Quality Reptiles\, Exotic Animals\, Turtles\, Cage Supplies\, and Feeders FOR SALE!!!\n* BUY – SELL – TRADE *\n10 A.M. to 4 P.M.\nVIP & General Admission Tickets can be bought at the door. Tickets DO NOT sell out.\nDaily Admission with Credit: 11 and Older $12.00\, Children 5-10 – $5.00\nDaily Admission with Cash: 11 and Older $10.00\, Children 5-10 – $5.00\nKids 4 and under FREE!!\nVIP Entry:  Cash $15\, Card $17 – You can enter at 9am to beat the rush!\nInformation and Table Reservations\ninfo@coldbloodedexpos.com\nPurchase Show Tickets:\nCLICK HERE \nReserve Vendor Tables:\nCLICK HERE \nVendors Info:\nCLICK HERE
URL:https://coldbloodedexpos.com/reptile-show/nebraska-reptile-show-17/
LOCATION:COURTYARD MARRIOTT BELLEVUE at BEARDMORE EVENT CENTER\, 3730 Raynor Parkway\, Bellevue\, NE\, 68123\, United States
CATEGORIES:NE Reptile Shows
ATTACH;FMTTYPE=image/jpeg:https://coldbloodedexpos.com/wp-content/uploads/2023/11/2024-CBE-Eventbrite-header-NE.jpg
END:VEVENT
BEGIN:VEVENT
DTSTART;TZID=America/Chicago:20240818T100000
DTEND;TZID=America/Chicago:20240818T160000
DTSTAMP:20260422T171401
CREATED:20231117T020731Z
LAST-MODIFIED:20240727T152141Z
UID:60578-1723975200-1723996800@coldbloodedexpos.com
SUMMARY:Nebraska Reptile Show
DESCRIPTION:Quality Reptiles\, Exotic Animals\, Turtles\, Cage Supplies\, and Feeders FOR SALE!!!\n* BUY – SELL – TRADE *\n10 A.M. to 4 P.M.\nVIP & General Admission Tickets can be bought at the door. Tickets DO NOT sell out.\nDaily Admission with Credit: 11 and Older $12.00\, Children 5-10 – $5.00\nDaily Admission with Cash: 11 and Older $10.00\, Children 5-10 – $5.00\nKids 4 and under FREE!!\nVIP Entry:  Cash $15\, Card $17 – You can enter at 9am to beat the rush!\nInformation and Table Reservations\ninfo@coldbloodedexpos.com\nPurchase Show Tickets:\nCLICK HERE \nReserve Vendor Tables:\nCLICK HERE \nVendors Info:\nCLICK HERE
URL:https://coldbloodedexpos.com/reptile-show/nebraska-reptile-show-16/
LOCATION:COURTYARD MARRIOTT BELLEVUE at BEARDMORE EVENT CENTER\, 3730 Raynor Parkway\, Bellevue\, NE\, 68123\, United States
CATEGORIES:NE Reptile Shows
ATTACH;FMTTYPE=image/jpeg:https://coldbloodedexpos.com/wp-content/uploads/2023/11/2024-CBE-Eventbrite-header-NE.jpg
ORGANIZER;CN="GoLizards":MAILTO:info@golizards.com
END:VEVENT
BEGIN:VEVENT
DTSTART;TZID=America/Chicago:20241020T100000
DTEND;TZID=America/Chicago:20241020T160000
DTSTAMP:20260422T171401
CREATED:20231117T020709Z
LAST-MODIFIED:20241016T022105Z
UID:60580-1729418400-1729440000@coldbloodedexpos.com
SUMMARY:Nebraska Reptile Show
DESCRIPTION:Quality Reptiles\, Exotic Animals\, Turtles\, Cage Supplies\, and Feeders FOR SALE!!!\n* BUY – SELL – TRADE *\n10 A.M. to 4 P.M.\nVIP & General Admission Tickets can be bought at the door. Tickets DO NOT sell out.\nDaily Admission with Credit: 11 and Older $12.00\, Children 5-10 – $5.00\nDaily Admission with Cash: 11 and Older $10.00\, Children 5-10 – $5.00\nKids 4 and under FREE!!\nVIP Entry:  Cash $15\, Card $17 – You can enter at 9am to beat the rush!\nInformation and Table Reservations\ninfo@coldbloodedexpos.com\nPurchase Show Tickets:\nCLICK HERE \nReserve Vendor Tables:\nCLICK HERE \nVendors Info:\nCLICK HERE
URL:https://coldbloodedexpos.com/reptile-show/nebraska-reptile-show-15/
LOCATION:COURTYARD MARRIOTT BELLEVUE at BEARDMORE EVENT CENTER\, 3730 Raynor Parkway\, Bellevue\, NE\, 68123\, United States
CATEGORIES:NE Reptile Shows
ATTACH;FMTTYPE=image/jpeg:https://coldbloodedexpos.com/wp-content/uploads/2023/11/2024-CBE-Eventbrite-header-NE.jpg
END:VEVENT
BEGIN:VEVENT
DTSTART;TZID=America/Chicago:20241208T100000
DTEND;TZID=America/Chicago:20241208T160000
DTSTAMP:20260422T171401
CREATED:20231117T020631Z
LAST-MODIFIED:20241202T014509Z
UID:60582-1733652000-1733673600@coldbloodedexpos.com
SUMMARY:Nebraska Reptile Show
DESCRIPTION:Quality Reptiles\, Exotic Animals\, Turtles\, Cage Supplies\, and Feeders FOR SALE!!!\n* BUY – SELL – TRADE *\n10 A.M. to 4 P.M.\nVIP & General Admission Tickets can be bought at the door. Tickets DO NOT sell out.\nDaily Admission with Credit: 11 and Older $12.00\, Children 5-10 – $5.00\nDaily Admission with Cash: 11 and Older $10.00\, Children 5-10 – $5.00\nKids 4 and under FREE!!\nVIP Entry:  Cash $15\, Card $17 – You can enter at 9am to beat the rush!\nInformation and Table Reservations\ninfo@coldbloodedexpos.com\nPurchase Show Tickets:\nCLICK HERE \nReserve Vendor Tables:\nCLICK HERE \nVendors Info:\nCLICK HERE
URL:https://coldbloodedexpos.com/reptile-show/nebraska-reptile-show-14/
LOCATION:COURTYARD MARRIOTT BELLEVUE at BEARDMORE EVENT CENTER\, 3730 Raynor Parkway\, Bellevue\, NE\, 68123\, United States
CATEGORIES:NE Reptile Shows
ATTACH;FMTTYPE=image/jpeg:https://coldbloodedexpos.com/wp-content/uploads/2023/11/2024-CBE-Eventbrite-header-NE.jpg
END:VEVENT
BEGIN:VEVENT
DTSTART;TZID=America/Chicago:20250216T100000
DTEND;TZID=America/Chicago:20250216T160000
DTSTAMP:20260422T171401
CREATED:20241114T044831Z
LAST-MODIFIED:20250212T163651Z
UID:62219-1739700000-1739721600@coldbloodedexpos.com
SUMMARY:Nebraska Reptile Show
DESCRIPTION:Quality Reptiles\, Exotic Animals\, Turtles\, Cage Supplies\, and Feeders FOR SALE!!!\n* BUY – SELL – TRADE *\n10 A.M. to 4 P.M.\nVIP & General Admission Tickets can be bought at the door. Tickets DO NOT sell out.\nDaily Admission with Credit: 11 and Older $12.00\, Children 5-10 – $5.00\nDaily Admission with Cash: 11 and Older $10.00\, Children 5-10 – $5.00\nKids 4 and under FREE!!\nVIP Entry:  Cash $15\, Card $17 – You can enter at 9am to beat the rush!\nInformation and Table Reservations\ninfo@coldbloodedexpos.com\nPurchase Show Tickets:\nCLICK HERE \nReserve Vendor Tables:\nCLICK HERE \nVendors Info:\nCLICK HERE
URL:https://coldbloodedexpos.com/reptile-show/nebraska-reptile-show-19/
LOCATION:COURTYARD MARRIOTT BELLEVUE at BEARDMORE EVENT CENTER\, 3730 Raynor Parkway\, Bellevue\, NE\, 68123\, United States
CATEGORIES:NE Reptile Shows
ATTACH;FMTTYPE=image/jpeg:https://coldbloodedexpos.com/wp-content/uploads/2023/11/2024-CBE-Eventbrite-header-NE.jpg
END:VEVENT
BEGIN:VEVENT
DTSTART;TZID=America/Chicago:20250427T100000
DTEND;TZID=America/Chicago:20250427T160000
DTSTAMP:20260422T171401
CREATED:20241114T044921Z
LAST-MODIFIED:20250426T011200Z
UID:62221-1745748000-1745769600@coldbloodedexpos.com
SUMMARY:Nebraska Reptile Show
DESCRIPTION:Quality Reptiles\, Exotic Animals\, Turtles\, Cage Supplies\, and Feeders FOR SALE!!!\n* BUY – SELL – TRADE *\n10 A.M. to 4 P.M.\nVIP & General Admission Tickets can be bought at the door. Tickets DO NOT sell out.\nDaily Admission with Credit: 11 and Older $12.00\, Children 5-10 – $5.00\nDaily Admission with Cash: 11 and Older $10.00\, Children 5-10 – $5.00\nKids 4 and under FREE!!\nVIP Entry:  Cash $15\, Card $17 – You can enter at 9am to beat the rush!\nInformation and Table Reservations\ninfo@coldbloodedexpos.com\nPurchase Show Tickets:\nCLICK HERE \nReserve Vendor Tables:\nCLICK HERE \nVendors Info:\nCLICK HERE
URL:https://coldbloodedexpos.com/reptile-show/nebraska-reptile-show-20/
LOCATION:COURTYARD MARRIOTT BELLEVUE at BEARDMORE EVENT CENTER\, 3730 Raynor Parkway\, Bellevue\, NE\, 68123\, United States
CATEGORIES:NE Reptile Shows
ATTACH;FMTTYPE=image/jpeg:https://coldbloodedexpos.com/wp-content/uploads/2023/11/2024-CBE-Eventbrite-header-NE.jpg
END:VEVENT
BEGIN:VEVENT
DTSTART;TZID=America/Chicago:20251019T100000
DTEND;TZID=America/Chicago:20251019T160000
DTSTAMP:20260422T171401
CREATED:20241114T161255Z
LAST-MODIFIED:20251015T232816Z
UID:62236-1760868000-1760889600@coldbloodedexpos.com
SUMMARY:Nebraska Reptile Show
DESCRIPTION:Quality Reptiles\, Exotic Animals\, Turtles\, Cage Supplies\, and Feeders FOR SALE!!!\n* BUY – SELL – TRADE *\n10 A.M. to 4 P.M.\nVIP & General Admission Tickets can be bought at the door. Tickets DO NOT sell out.\nDaily Admission with Credit: 11 and Older $12.00\, Children 5-10 – $5.00\nDaily Admission with Cash: 11 and Older $10.00\, Children 5-10 – $5.00\nKids 4 and under FREE!!\nVIP Entry:  Cash $15\, Card $17 – You can enter at 9am to beat the rush!\nInformation and Table Reservations\ninfo@coldbloodedexpos.com\nPurchase Show Tickets:\nCLICK HERE \nReserve Vendor Tables:\nCLICK HERE \nVendors Info:\nCLICK HERE
URL:https://coldbloodedexpos.com/reptile-show/nebraska-reptile-show-22/
LOCATION:COURTYARD MARRIOTT BELLEVUE at BEARDMORE EVENT CENTER\, 3730 Raynor Parkway\, Bellevue\, NE\, 68123\, United States
CATEGORIES:NE Reptile Shows
ATTACH;FMTTYPE=image/jpeg:https://coldbloodedexpos.com/wp-content/uploads/2023/11/2024-CBE-Eventbrite-header-NE.jpg
END:VEVENT
BEGIN:VEVENT
DTSTART;TZID=America/Chicago:20251207T100000
DTEND;TZID=America/Chicago:20251207T160000
DTSTAMP:20260422T171401
CREATED:20241114T045040Z
LAST-MODIFIED:20251130T183109Z
UID:62223-1765101600-1765123200@coldbloodedexpos.com
SUMMARY:Nebraska Reptile Show
DESCRIPTION:Quality Reptiles\, Exotic Animals\, Turtles\, Cage Supplies\, and Feeders FOR SALE!!!\n* BUY – SELL – TRADE *\n10 A.M. to 4 P.M.\nVIP & General Admission Tickets can be bought at the door. Tickets DO NOT sell out.\nDaily Admission with Credit: 11 and Older $12.00\, Children 5-10 – $5.00\nDaily Admission with Cash: 11 and Older $10.00\, Children 5-10 – $5.00\nKids 4 and under FREE!!\nVIP Entry:  Cash $15\, Card $17 – You can enter at 9am to beat the rush!\nInformation and Table Reservations\ninfo@coldbloodedexpos.com\nPurchase Show Tickets:\nCLICK HERE \nReserve Vendor Tables:\nCLICK HERE \nVendors Info:\nCLICK HERE
URL:https://coldbloodedexpos.com/reptile-show/nebraska-reptile-show-21/
LOCATION:COURTYARD MARRIOTT BELLEVUE at BEARDMORE EVENT CENTER\, 3730 Raynor Parkway\, Bellevue\, NE\, 68123\, United States
CATEGORIES:NE Reptile Shows
ATTACH;FMTTYPE=image/jpeg:https://coldbloodedexpos.com/wp-content/uploads/2023/11/2024-CBE-Eventbrite-header-NE.jpg
END:VEVENT
BEGIN:VEVENT
DTSTART;TZID=America/Chicago:20260215T100000
DTEND;TZID=America/Chicago:20260215T160000
DTSTAMP:20260422T171401
CREATED:20251130T055635Z
LAST-MODIFIED:20260128T004209Z
UID:63340-1771149600-1771171200@coldbloodedexpos.com
SUMMARY:Nebraska Reptile Show
DESCRIPTION:Quality Reptiles\, Exotic Animals\, Turtles\, Cage Supplies\, and Feeders FOR SALE!!!\n* BUY – SELL – TRADE *\n10 A.M. to 4 P.M.\nVIP & General Admission Tickets can be bought at the door. Tickets DO NOT sell out.\nDaily Admission with Credit: 11 and Older $12.00\, Children 5-10 – $5.00\nDaily Admission with Cash: 11 and Older $10.00\, Children 5-10 – $5.00\nKids 4 and under FREE!!\nVIP Entry:  Cash $15\, Card $17 – You can enter at 9am to beat the rush!\nInformation and Table Reservations\ninfo@coldbloodedexpos.com\nPurchase Show Tickets:\nCLICK HERE \nReserve Vendor Tables:\nCLICK HERE \nVendors Info:\nCLICK HERE
URL:https://coldbloodedexpos.com/reptile-show/nebraska-reptile-show-23/
LOCATION:COURTYARD MARRIOTT BELLEVUE at BEARDMORE EVENT CENTER\, 3730 Raynor Parkway\, Bellevue\, NE\, 68123\, United States
CATEGORIES:NE Reptile Shows
ATTACH;FMTTYPE=image/jpeg:https://coldbloodedexpos.com/wp-content/uploads/2023/11/2024-CBE-Eventbrite-header-NE.jpg
END:VEVENT
BEGIN:VEVENT
DTSTART;TZID=America/Chicago:20260426T100000
DTEND;TZID=America/Chicago:20260426T160000
DTSTAMP:20260422T171401
CREATED:20251130T055727Z
LAST-MODIFIED:20260420T214109Z
UID:63342-1777197600-1777219200@coldbloodedexpos.com
SUMMARY:Nebraska Reptile Show
DESCRIPTION:Quality Reptiles\, Exotic Animals\, Turtles\, Cage Supplies\, and Feeders FOR SALE!!!\n* BUY – SELL – TRADE *\n10 A.M. to 4 P.M.\nVIP & General Admission Tickets can be bought at the door. Tickets DO NOT sell out.\nDaily Admission with Credit: 11 and Older $12.00\, Children 5-10 – $5.00\nDaily Admission with Cash: 11 and Older $10.00\, Children 5-10 – $5.00\nKids 4 and under FREE!!\nVIP Entry:  Cash $15\, Card $17 – You can enter at 9am to beat the rush!\nInformation and Table Reservations\ninfo@coldbloodedexpos.com\nPurchase Show Tickets:\nCLICK HERE \nReserve Vendor Tables:\nCLICK HERE \nVendors Info:\nCLICK HERE
URL:https://coldbloodedexpos.com/reptile-show/nebraska-reptile-show-24/
LOCATION:COURTYARD MARRIOTT BELLEVUE at BEARDMORE EVENT CENTER\, 3730 Raynor Parkway\, Bellevue\, NE\, 68123\, United States
CATEGORIES:NE Reptile Shows
ATTACH;FMTTYPE=image/jpeg:https://coldbloodedexpos.com/wp-content/uploads/2023/11/2024-CBE-Eventbrite-header-NE.jpg
END:VEVENT
BEGIN:VEVENT
DTSTART;TZID=America/Chicago:20260802T100000
DTEND;TZID=America/Chicago:20260802T160000
DTSTAMP:20260422T171401
CREATED:20251130T055828Z
LAST-MODIFIED:20251130T055828Z
UID:63344-1785664800-1785686400@coldbloodedexpos.com
SUMMARY:Nebraska Reptile Show
DESCRIPTION:Quality Reptiles\, Exotic Animals\, Turtles\, Cage Supplies\, and Feeders FOR SALE!!!\n* BUY – SELL – TRADE *\n10 A.M. to 4 P.M.\nVIP & General Admission Tickets can be bought at the door. Tickets DO NOT sell out.\nDaily Admission with Credit: 11 and Older $12.00\, Children 5-10 – $5.00\nDaily Admission with Cash: 11 and Older $10.00\, Children 5-10 – $5.00\nKids 4 and under FREE!!\nVIP Entry:  Cash $15\, Card $17 – You can enter at 9am to beat the rush!\nInformation and Table Reservations\ninfo@coldbloodedexpos.com\nPurchase Show Tickets:\nCLICK HERE \nReserve Vendor Tables:\nCLICK HERE \nVendors Info:\nCLICK HERE
URL:https://coldbloodedexpos.com/reptile-show/nebraska-reptile-show-25/
LOCATION:COURTYARD MARRIOTT BELLEVUE at BEARDMORE EVENT CENTER\, 3730 Raynor Parkway\, Bellevue\, NE\, 68123\, United States
CATEGORIES:NE Reptile Shows
ATTACH;FMTTYPE=image/jpeg:https://coldbloodedexpos.com/wp-content/uploads/2023/11/2024-CBE-Eventbrite-header-NE.jpg
END:VEVENT
BEGIN:VEVENT
DTSTART;TZID=America/Chicago:20261018T100000
DTEND;TZID=America/Chicago:20261018T160000
DTSTAMP:20260422T171401
CREATED:20251130T055919Z
LAST-MODIFIED:20251130T055919Z
UID:63346-1792317600-1792339200@coldbloodedexpos.com
SUMMARY:Nebraska Reptile Show
DESCRIPTION:Quality Reptiles\, Exotic Animals\, Turtles\, Cage Supplies\, and Feeders FOR SALE!!!\n* BUY – SELL – TRADE *\n10 A.M. to 4 P.M.\nVIP & General Admission Tickets can be bought at the door. Tickets DO NOT sell out.\nDaily Admission with Credit: 11 and Older $12.00\, Children 5-10 – $5.00\nDaily Admission with Cash: 11 and Older $10.00\, Children 5-10 – $5.00\nKids 4 and under FREE!!\nVIP Entry:  Cash $15\, Card $17 – You can enter at 9am to beat the rush!\nInformation and Table Reservations\ninfo@coldbloodedexpos.com\nPurchase Show Tickets:\nCLICK HERE \nReserve Vendor Tables:\nCLICK HERE \nVendors Info:\nCLICK HERE
URL:https://coldbloodedexpos.com/reptile-show/nebraska-reptile-show-26/
LOCATION:COURTYARD MARRIOTT BELLEVUE at BEARDMORE EVENT CENTER\, 3730 Raynor Parkway\, Bellevue\, NE\, 68123\, United States
CATEGORIES:NE Reptile Shows
ATTACH;FMTTYPE=image/jpeg:https://coldbloodedexpos.com/wp-content/uploads/2023/11/2024-CBE-Eventbrite-header-NE.jpg
END:VEVENT
BEGIN:VEVENT
DTSTART;TZID=America/Chicago:20261206T100000
DTEND;TZID=America/Chicago:20261206T160000
DTSTAMP:20260422T171401
CREATED:20251130T060126Z
LAST-MODIFIED:20251130T060126Z
UID:63348-1796551200-1796572800@coldbloodedexpos.com
SUMMARY:Nebraska Reptile Show
DESCRIPTION:Quality Reptiles\, Exotic Animals\, Turtles\, Cage Supplies\, and Feeders FOR SALE!!!\n* BUY – SELL – TRADE *\n10 A.M. to 4 P.M.\nVIP & General Admission Tickets can be bought at the door. Tickets DO NOT sell out.\nDaily Admission with Credit: 11 and Older $12.00\, Children 5-10 – $5.00\nDaily Admission with Cash: 11 and Older $10.00\, Children 5-10 – $5.00\nKids 4 and under FREE!!\nVIP Entry:  Cash $15\, Card $17 – You can enter at 9am to beat the rush!\nInformation and Table Reservations\ninfo@coldbloodedexpos.com\nPurchase Show Tickets:\nCLICK HERE \nReserve Vendor Tables:\nCLICK HERE \nVendors Info:\nCLICK HERE
URL:https://coldbloodedexpos.com/reptile-show/nebraska-reptile-show-27/
LOCATION:COURTYARD MARRIOTT BELLEVUE at BEARDMORE EVENT CENTER\, 3730 Raynor Parkway\, Bellevue\, NE\, 68123\, United States
CATEGORIES:NE Reptile Shows
ATTACH;FMTTYPE=image/jpeg:https://coldbloodedexpos.com/wp-content/uploads/2023/11/2024-CBE-Eventbrite-header-NE.jpg
END:VEVENT
END:VCALENDAR