
BEGIN:VCALENDAR
VERSION:2.0
PRODID:-//Cold Blooded Expos - ECPv6.15.20//NONSGML v1.0//EN
CALSCALE:GREGORIAN
METHOD:PUBLISH
X-WR-CALNAME:Cold Blooded Expos
X-ORIGINAL-URL:https://coldbloodedexpos.com
X-WR-CALDESC:Events for Cold Blooded Expos
REFRESH-INTERVAL;VALUE=DURATION:PT1H
X-Robots-Tag:noindex
X-PUBLISHED-TTL:PT1H
BEGIN:VTIMEZONE
TZID:America/Chicago
BEGIN:DAYLIGHT
TZOFFSETFROM:-0600
TZOFFSETTO:-0500
TZNAME:CDT
DTSTART:20200308T080000
END:DAYLIGHT
BEGIN:STANDARD
TZOFFSETFROM:-0500
TZOFFSETTO:-0600
TZNAME:CST
DTSTART:20201101T070000
END:STANDARD
BEGIN:DAYLIGHT
TZOFFSETFROM:-0600
TZOFFSETTO:-0500
TZNAME:CDT
DTSTART:20210314T080000
END:DAYLIGHT
BEGIN:STANDARD
TZOFFSETFROM:-0500
TZOFFSETTO:-0600
TZNAME:CST
DTSTART:20211107T070000
END:STANDARD
BEGIN:DAYLIGHT
TZOFFSETFROM:-0600
TZOFFSETTO:-0500
TZNAME:CDT
DTSTART:20220313T080000
END:DAYLIGHT
BEGIN:STANDARD
TZOFFSETFROM:-0500
TZOFFSETTO:-0600
TZNAME:CST
DTSTART:20221106T070000
END:STANDARD
END:VTIMEZONE
BEGIN:VEVENT
DTSTART;TZID=America/Chicago:20210711T100000
DTEND;TZID=America/Chicago:20210711T160000
DTSTAMP:20260425T053025
CREATED:20210124T015809Z
LAST-MODIFIED:20210708T032425Z
UID:49622-1625997600-1626019200@coldbloodedexpos.com
SUMMARY:The Oklahoma City Reptile Show
DESCRIPTION:Quality Reptiles\, Exotic Animals\, Tanks\, Cage Supplies and Feeders FOR SALE!!!\n* BUY – SELL – TRADE *\n10 A.M. to 4 P.M.\nDaily Admission with CASH: 11 and Older $8.00\, Children 5-10 – $3.00\nDaily Admission with Credit Card: 11 and Older $10.00\, Children 5-10 – $5.00\nKids 4 and under FREE!!!\nADMISSION TICKETS ARE SOLD AT THE DOOR.  We Accept both cash and card.  You can also click the button below to purchase your ticket online.  VIP TICKETS are $15 and allows you to get in at 9am to shop early.  TICKETS DO NOT RUN OUT!\nInformation and Table Reservations\nCall Jason or Kelli @ 913-609-9343\ninfo@coldbloodedexpos.com\nPurchase Show Tickets:\nCLICK HERE \nReserve Vendor Tables:\nCLICK HERE \nVendors Info:\nCLICK HERE
URL:https://coldbloodedexpos.com/reptile-show/the-oklahoma-city-reptile-show-12/
LOCATION:Biltmore Hotel\, 401 S. Meridian\, Oklahoma City\, OK\, 73108\, United States
CATEGORIES:OKC Reptile Shows
ATTACH;FMTTYPE=image/jpeg:https://coldbloodedexpos.com/wp-content/uploads/2018/11/okc_fb_header.jpg
ORGANIZER;CN="Snakes Alive":MAILTO:snakesaliveprograms@gmail.com
END:VEVENT
END:VCALENDAR